BEGIN:VCALENDAR
VERSION:2.0
PRODID:-//Massachusetts Highway Association - ECPv6.15.18//NONSGML v1.0//EN
CALSCALE:GREGORIAN
METHOD:PUBLISH
X-ORIGINAL-URL:https://masshighway.org
X-WR-CALDESC:Events for Massachusetts Highway Association
REFRESH-INTERVAL;VALUE=DURATION:PT1H
X-Robots-Tag:noindex
X-PUBLISHED-TTL:PT1H
BEGIN:VTIMEZONE
TZID:UTC
BEGIN:STANDARD
TZOFFSETFROM:+0000
TZOFFSETTO:+0000
TZNAME:UTC
DTSTART:20240101T000000
END:STANDARD
END:VTIMEZONE
BEGIN:VEVENT
DTSTART;TZID=UTC:20250606T000000
DTEND;TZID=UTC:20250606T235959
DTSTAMP:20260422T122108
CREATED:20241210T163911Z
LAST-MODIFIED:20241210T163911Z
UID:562-1749168000-1749254399@masshighway.org
SUMMARY:BERKSHIRE COUNTY
DESCRIPTION:GOLF TOURNAMENT
URL:https://masshighway.org/event/berkshire-county-2/
CATEGORIES:Berkshire County,Mass Highway
END:VEVENT
BEGIN:VEVENT
DTSTART;TZID=UTC:20250626T000000
DTEND;TZID=UTC:20250626T235959
DTSTAMP:20260422T122108
CREATED:20241210T164025Z
LAST-MODIFIED:20241210T164025Z
UID:564-1750896000-1750982399@masshighway.org
SUMMARY:BERKSHIRE COUNTY
DESCRIPTION:2nd MEETING
URL:https://masshighway.org/event/berkshire-county-3/
CATEGORIES:Berkshire County,Mass Highway
END:VEVENT
END:VCALENDAR