BEGIN:VCALENDAR
VERSION:2.0
PRODID:-//Massachusetts Highway Association - ECPv6.15.18//NONSGML v1.0//EN
CALSCALE:GREGORIAN
METHOD:PUBLISH
X-ORIGINAL-URL:https://masshighway.org
X-WR-CALDESC:Events for Massachusetts Highway Association
REFRESH-INTERVAL;VALUE=DURATION:PT1H
X-Robots-Tag:noindex
X-PUBLISHED-TTL:PT1H
BEGIN:VTIMEZONE
TZID:UTC
BEGIN:STANDARD
TZOFFSETFROM:+0000
TZOFFSETTO:+0000
TZNAME:UTC
DTSTART:20240101T000000
END:STANDARD
END:VTIMEZONE
BEGIN:VEVENT
DTSTART;TZID=UTC:20251028T080000
DTEND;TZID=UTC:20251028T170000
DTSTAMP:20260422T200953
CREATED:20251028T153214Z
LAST-MODIFIED:20251028T153214Z
UID:941-1761638400-1761670800@masshighway.org
SUMMARY:MHA and Tri County Joint Meeting
DESCRIPTION:Tri County and MHA joint meeting will be held at the Castle of Knights\, Chicopee\, MA
URL:https://masshighway.org/event/mha-and-tri-county-joint-meeting/
CATEGORIES:Mass Highway,Tri County
END:VEVENT
END:VCALENDAR