BEGIN:VCALENDAR
VERSION:2.0
PRODID:-//Massachusetts Highway Association - ECPv6.15.18//NONSGML v1.0//EN
CALSCALE:GREGORIAN
METHOD:PUBLISH
X-WR-CALNAME:Massachusetts Highway Association
X-ORIGINAL-URL:https://masshighway.org
X-WR-CALDESC:Events for Massachusetts Highway Association
REFRESH-INTERVAL;VALUE=DURATION:PT1H
X-Robots-Tag:noindex
X-PUBLISHED-TTL:PT1H
BEGIN:VTIMEZONE
TZID:UTC
BEGIN:STANDARD
TZOFFSETFROM:+0000
TZOFFSETTO:+0000
TZNAME:UTC
DTSTART:20250101T000000
END:STANDARD
END:VTIMEZONE
BEGIN:VEVENT
DTSTART;TZID=UTC:20261117T000000
DTEND;TZID=UTC:20261117T235959
DTSTAMP:20260421T065232
CREATED:20251209T182932Z
LAST-MODIFIED:20251209T182932Z
UID:1151-1794873600-1794959999@masshighway.org
SUMMARY:Worcester
DESCRIPTION:November Business Meeting
URL:https://masshighway.org/event/worcester-5/
CATEGORIES:Mass Highway,Worcester County
END:VEVENT
END:VCALENDAR